BEGIN:VCALENDAR
VERSION:2.0
PRODID:-//wp-events-plugin.com//7.2.3.1//EN
TZID:America/Chicago
X-WR-TIMEZONE:America/Chicago
BEGIN:VEVENT
UID:522@ljcagbi.org
DTSTART;TZID=America/Chicago:20260413T193000
DTEND;TZID=America/Chicago:20260413T210000
DTSTAMP:20260325T155758Z
URL:https://www.ljcagbi.org/events/yom-hashoah-2026-observance/
SUMMARY:Yom Hashoah 2026 Observance
DESCRIPTION:
ATTACH;FMTTYPE=image/jpeg:https://www.ljcagbi.org/wp-content/uploads/2026/
 03/Yom-HaShoah-2026.png
END:VEVENT
BEGIN:VTIMEZONE
TZID:America/Chicago
X-LIC-LOCATION:America/Chicago
BEGIN:DAYLIGHT
DTSTART:20260308T030000
TZOFFSETFROM:-0600
TZOFFSETTO:-0500
TZNAME:CDT
END:DAYLIGHT
END:VTIMEZONE
END:VCALENDAR