BEGIN:VCALENDAR
VERSION:2.0
PRODID:-//wp-events-plugin.com//7.2.3.1//EN
TZID:America/Chicago
X-WR-TIMEZONE:America/Chicago
BEGIN:VEVENT
UID:401@ljcagbi.org
DTSTART;TZID=America/Chicago:20251220T123000
DTEND;TZID=America/Chicago:20251220T123000
DTSTAMP:20251106T212717Z
URL:https://www.ljcagbi.org/events/womans-fabulous-shiur-2/
SUMMARY:Woman's Fabulous Shiur
DESCRIPTION:
ATTACH;FMTTYPE=image/jpeg:https://www.ljcagbi.org/wp-content/uploads/2025/
 10/8_DONE-Ready-November-Bulletin-2024-Womens-Fab-Shiur.png
CATEGORIES:Ladies Programming,On Shabbat
END:VEVENT
BEGIN:VTIMEZONE
TZID:America/Chicago
X-LIC-LOCATION:America/Chicago
BEGIN:STANDARD
DTSTART:20251102T010000
TZOFFSETFROM:-0500
TZOFFSETTO:-0600
TZNAME:CST
END:STANDARD
END:VTIMEZONE
END:VCALENDAR