BEGIN:VCALENDAR
VERSION:2.0
PRODID:-//wp-events-plugin.com//7.2.3.1//EN
TZID:America/Chicago
X-WR-TIMEZONE:America/Chicago
BEGIN:VEVENT
UID:351@ljcagbi.org
DTSTART;TZID=America/Chicago:20250802T210000
DTEND;TZID=America/Chicago:20250803T210000
DTSTAMP:20250701T221011Z
URL:https://www.ljcagbi.org/events/tisha-bav-observance/
SUMMARY:Tisha B'Av Observance
DESCRIPTION:
ATTACH;FMTTYPE=image/jpeg:https://www.ljcagbi.org/wp-content/uploads/2025/
 07/Ready-Tisha-BAv-Schedule-July-August-Bulletin-2025-2.png
CATEGORIES:Holidays
END:VEVENT
BEGIN:VTIMEZONE
TZID:America/Chicago
X-LIC-LOCATION:America/Chicago
BEGIN:DAYLIGHT
DTSTART:20250309T030000
TZOFFSETFROM:-0600
TZOFFSETTO:-0500
TZNAME:CDT
END:DAYLIGHT
END:VTIMEZONE
END:VCALENDAR