BEGIN:VCALENDAR
VERSION:2.0
PRODID:-//wp-events-plugin.com//7.2.3.1//EN
TZID:America/Chicago
X-WR-TIMEZONE:America/Chicago
BEGIN:VEVENT
UID:89@ljcagbi.org
DTSTART;TZID=America/Chicago:20240620T000000
DTEND;TZID=America/Chicago:20240627T000000
DTSTAMP:20240411T025620Z
URL:https://www.ljcagbi.org/event-recurring/thursday-night-mens-mishmar-5/
SUMMARY:Thursday Night Men's Mishmar
DESCRIPTION:
ATTACH;FMTTYPE=image/jpeg:https://www.ljcagbi.org/wp-content/uploads/2024/
 04/Thursday-Night-Mishmar.png
CATEGORIES:Men's Programming
END:VEVENT
BEGIN:VTIMEZONE
TZID:America/Chicago
X-LIC-LOCATION:America/Chicago
BEGIN:DAYLIGHT
DTSTART:20240310T030000
TZOFFSETFROM:-0600
TZOFFSETTO:-0500
TZNAME:CDT
END:DAYLIGHT
END:VTIMEZONE
END:VCALENDAR