BEGIN:VCALENDAR
VERSION:2.0
PRODID:-//wp-events-plugin.com//7.2.3.1//EN
TZID:America/Chicago
X-WR-TIMEZONE:America/Chicago
BEGIN:VEVENT
UID:43@ljcagbi.org
DTSTART;TZID=America/Chicago:20240307T193000
DTEND;TZID=America/Chicago:20240314T203000
DTSTAMP:20240229T021458Z
URL:https://www.ljcagbi.org/event-recurring/thursday-night-mens-mishmar-2/
SUMMARY:Thursday Night Men's Mishmar
DESCRIPTION:
ATTACH;FMTTYPE=image/jpeg:https://www.ljcagbi.org/wp-content/uploads/2024/
 02/Thursday-nite-Mens-Mishmar.png
CATEGORIES:Men's Programming
END:VEVENT
BEGIN:VTIMEZONE
TZID:America/Chicago
X-LIC-LOCATION:America/Chicago
BEGIN:STANDARD
DTSTART:20231105T010000
TZOFFSETFROM:-0500
TZOFFSETTO:-0600
TZNAME:CST
END:STANDARD
BEGIN:DAYLIGHT
DTSTART:20240310T030000
TZOFFSETFROM:-0600
TZOFFSETTO:-0500
TZNAME:CDT
END:DAYLIGHT
END:VTIMEZONE
END:VCALENDAR