BEGIN:VCALENDAR
VERSION:2.0
PRODID:-//wp-events-plugin.com//7.2.3.1//EN
TZID:America/Chicago
X-WR-TIMEZONE:America/Chicago
BEGIN:VEVENT
UID:399@ljcagbi.org
DTSTART;TZID=America/Chicago:20251211T200000
DTEND;TZID=America/Chicago:20251211T200000
DTSTAMP:20251106T212236Z
URL:https://www.ljcagbi.org/events/thursday-night-mens-mishmar-13-2025-11-
 06-2025-11-13-2025-11-20-2025-11-27-2025-12-04-2025-12-11/
SUMMARY:Thursday Night Men's Mishmar
DESCRIPTION:
ATTACH;FMTTYPE=image/jpeg:https://www.ljcagbi.org/wp-content/uploads/2025/
 10/7_Ready-Nov-Dec-Bulletin-2025-Thursday-Night-Mishmar.png
CATEGORIES:Men's Programming
END:VEVENT
BEGIN:VTIMEZONE
TZID:America/Chicago
X-LIC-LOCATION:America/Chicago
BEGIN:STANDARD
DTSTART:20251102T010000
TZOFFSETFROM:-0500
TZOFFSETTO:-0600
TZNAME:CST
END:STANDARD
END:VTIMEZONE
END:VCALENDAR