BEGIN:VCALENDAR
VERSION:2.0
PRODID:-//wp-events-plugin.com//7.2.3.1//EN
TZID:America/Chicago
X-WR-TIMEZONE:America/Chicago
BEGIN:VEVENT
UID:408@ljcagbi.org
DTSTART;TZID=America/Chicago;VALUE=DATE:20260208
DTEND;TZID=America/Chicago;VALUE=DATE:20260209
DTSTAMP:20251230T173231Z
URL:https://www.ljcagbi.org/events/super-bowl-half-time-shiur/
SUMMARY:Super Bowl Half Time Shiur
DESCRIPTION:Call shul office for link
ATTACH;FMTTYPE=image/jpeg:https://www.ljcagbi.org/wp-content/uploads/2025/
 12/1_DONE-Super-bowl-Halftime-Shiur-January-February-Bulletin-2025-1.png
CATEGORIES:Fun Activity,On Zoom
END:VEVENT
BEGIN:VTIMEZONE
TZID:America/Chicago
X-LIC-LOCATION:America/Chicago
BEGIN:STANDARD
DTSTART:20251102T010000
TZOFFSETFROM:-0500
TZOFFSETTO:-0600
TZNAME:CST
END:STANDARD
END:VTIMEZONE
END:VCALENDAR