BEGIN:VCALENDAR
VERSION:2.0
PRODID:-//wp-events-plugin.com//7.2.3.1//EN
TZID:America/Chicago
X-WR-TIMEZONE:America/Chicago
BEGIN:VEVENT
UID:379@ljcagbi.org
DTSTART;TZID=America/Chicago:20251015T121500
DTEND;TZID=America/Chicago:20251015T121500
DTSTAMP:20250930T225037Z
URL:https://www.ljcagbi.org/events/simchat-torah-siyum/
SUMMARY:Simchat Torah Siyum
DESCRIPTION:To Signup go to Simchat Torah Siyum under the Learning tab
ATTACH;FMTTYPE=image/jpeg:https://www.ljcagbi.org/wp-content/uploads/2025/
 08/Simchas-Torah-Siyum-Sign-Up-September-October-Bulletin-2025.png
CATEGORIES:Holidays
END:VEVENT
BEGIN:VTIMEZONE
TZID:America/Chicago
X-LIC-LOCATION:America/Chicago
BEGIN:DAYLIGHT
DTSTART:20250309T030000
TZOFFSETFROM:-0600
TZOFFSETTO:-0500
TZNAME:CDT
END:DAYLIGHT
END:VTIMEZONE
END:VCALENDAR