BEGIN:VCALENDAR
VERSION:2.0
PRODID:-//wp-events-plugin.com//7.2.3.1//EN
TZID:America/Chicago
X-WR-TIMEZONE:America/Chicago
BEGIN:VEVENT
UID:303@ljcagbi.org
DTSTART;TZID=America/Chicago:20250607T000000
DTEND;TZID=America/Chicago:20250607T000000
DTSTAMP:20250515T212443Z
URL:https://www.ljcagbi.org/events/shabbat-afternoon-gemara-shiur-4-2025-0
 6-07/
SUMMARY:Shabbat Afternoon Gemara Shiur
DESCRIPTION:
ATTACH;FMTTYPE=image/jpeg:https://www.ljcagbi.org/wp-content/uploads/2025/
 05/2025-Shabbat-Afternoon-Gemara-Shiur-.jpg
CATEGORIES:Classes,On Shabbat
END:VEVENT
BEGIN:VTIMEZONE
TZID:America/Chicago
X-LIC-LOCATION:America/Chicago
BEGIN:DAYLIGHT
DTSTART:20250309T030000
TZOFFSETFROM:-0600
TZOFFSETTO:-0500
TZNAME:CDT
END:DAYLIGHT
END:VTIMEZONE
END:VCALENDAR