BEGIN:VCALENDAR
VERSION:2.0
PRODID:-//wp-events-plugin.com//7.2.3.1//EN
TZID:America/Chicago
X-WR-TIMEZONE:America/Chicago
BEGIN:VEVENT
UID:380@ljcagbi.org
DTSTART;TZID=America/Chicago:20251115T120000
DTEND;TZID=America/Chicago:20251115T120000
DTSTAMP:20251106T210151Z
URL:https://www.ljcagbi.org/events/scholar-in-residence-series/
SUMMARY:Scholar-In-Residence Series
DESCRIPTION:
ATTACH;FMTTYPE=image/jpeg:https://www.ljcagbi.org/wp-content/uploads/2025/
 10/2_Alissa-Zeffren-Scholar-in-residence.png
CATEGORIES:On Shabbat,Scholar In Residence
END:VEVENT
BEGIN:VTIMEZONE
TZID:America/Chicago
X-LIC-LOCATION:America/Chicago
BEGIN:STANDARD
DTSTART:20251102T010000
TZOFFSETFROM:-0500
TZOFFSETTO:-0600
TZNAME:CST
END:STANDARD
END:VTIMEZONE
END:VCALENDAR