BEGIN:VCALENDAR
VERSION:2.0
PRODID:-//wp-events-plugin.com//7.2.3.1//EN
TZID:America/Chicago
X-WR-TIMEZONE:America/Chicago
BEGIN:VEVENT
UID:357@ljcagbi.org
DTSTART;TZID=America/Chicago:20250920T121500
DTEND;TZID=America/Chicago:20250920T121500
DTSTAMP:20250815T224343Z
URL:https://www.ljcagbi.org/events/reflections-on-teshuva/
SUMMARY:Reflections on Teshuva
DESCRIPTION:
ATTACH;FMTTYPE=image/jpeg:https://www.ljcagbi.org/wp-content/uploads/2025/
 08/READY-September-October-Bulletin-2025-Daniel-Freund-Scholar-in-Residenc
 e-8.5-x-5.5-in.png
CATEGORIES:Holidays,On Shabbat,Scholar In Residence
END:VEVENT
BEGIN:VTIMEZONE
TZID:America/Chicago
X-LIC-LOCATION:America/Chicago
BEGIN:DAYLIGHT
DTSTART:20250309T030000
TZOFFSETFROM:-0600
TZOFFSETTO:-0500
TZNAME:CDT
END:DAYLIGHT
END:VTIMEZONE
END:VCALENDAR