BEGIN:VCALENDAR
VERSION:2.0
PRODID:-//wp-events-plugin.com//7.2.3.1//EN
TZID:America/Chicago
X-WR-TIMEZONE:America/Chicago
BEGIN:VEVENT
UID:413@ljcagbi.org
DTSTART;TZID=America/Chicago;VALUE=DATE:20260302
DTEND;TZID=America/Chicago;VALUE=DATE:20260304
DTSTAMP:20251230T192028Z
URL:https://www.ljcagbi.org/events/purim-schedule/
SUMMARY:Purim Schedule
DESCRIPTION:
ATTACH;FMTTYPE=image/jpeg:https://www.ljcagbi.org/wp-content/uploads/2025/
 12/6_DONE-Purim-Schedule-2026-1.png
CATEGORIES:Holidays
END:VEVENT
BEGIN:VTIMEZONE
TZID:America/Chicago
X-LIC-LOCATION:America/Chicago
BEGIN:STANDARD
DTSTART:20251102T010000
TZOFFSETFROM:-0500
TZOFFSETTO:-0600
TZNAME:CST
END:STANDARD
END:VTIMEZONE
END:VCALENDAR