BEGIN:VCALENDAR
VERSION:2.0
PRODID:-//wp-events-plugin.com//7.2.3.1//EN
TZID:America/Chicago
X-WR-TIMEZONE:America/Chicago
BEGIN:VEVENT
UID:503@ljcagbi.org
DTSTART;TZID=America/Chicago:20260321T120000
DTEND;TZID=America/Chicago:20260321T120000
DTSTAMP:20260305T190454Z
URL:https://www.ljcagbi.org/events/pre-pesach-q-a-2/
SUMMARY:Pre-Pesach Q & A
DESCRIPTION:
ATTACH;FMTTYPE=image/jpeg:https://www.ljcagbi.org/wp-content/uploads/2026/
 03/7_Pre-Pesach-Q-and-A-March-April-Bulletin-2025-.png
CATEGORIES:Holidays,On Shabbat
END:VEVENT
BEGIN:VTIMEZONE
TZID:America/Chicago
X-LIC-LOCATION:America/Chicago
BEGIN:DAYLIGHT
DTSTART:20260308T030000
TZOFFSETFROM:-0600
TZOFFSETTO:-0500
TZNAME:CDT
END:DAYLIGHT
END:VTIMEZONE
END:VCALENDAR