BEGIN:VCALENDAR
VERSION:2.0
PRODID:-//wp-events-plugin.com//7.2.3.1//EN
TZID:America/Chicago
X-WR-TIMEZONE:America/Chicago
BEGIN:VEVENT
UID:353@ljcagbi.org
DTSTART;TZID=America/Chicago:20251101T121500
DTEND;TZID=America/Chicago:20251101T121500
DTSTAMP:20250815T221149Z
URL:https://www.ljcagbi.org/events/monthly-ladies-shiur/
SUMMARY:Monthly Ladies Shiur
DESCRIPTION:Other dates to be announced
ATTACH;FMTTYPE=image/jpeg:https://www.ljcagbi.org/wp-content/uploads/2025/
 08/READY-Monthly-Womens-Shiur-September-October-Bulletin-2025.png
CATEGORIES:Ladies Programming,On Shabbat
END:VEVENT
BEGIN:VTIMEZONE
TZID:America/Chicago
X-LIC-LOCATION:America/Chicago
BEGIN:DAYLIGHT
DTSTART:20250309T030000
TZOFFSETFROM:-0600
TZOFFSETTO:-0500
TZNAME:CDT
END:DAYLIGHT
END:VTIMEZONE
END:VCALENDAR