BEGIN:VCALENDAR
VERSION:2.0
PRODID:-//wp-events-plugin.com//7.2.3.1//EN
TZID:America/Chicago
X-WR-TIMEZONE:America/Chicago
BEGIN:VEVENT
UID:383@ljcagbi.org
DTSTART;TZID=America/Chicago:20251122T191500
DTEND;TZID=America/Chicago:20251122T220000
DTSTAMP:20251106T210902Z
URL:https://www.ljcagbi.org/events/melava-malka-paint-sip/
SUMMARY:Melava Malka - Paint & Sip
DESCRIPTION:
ATTACH;FMTTYPE=image/jpeg:https://www.ljcagbi.org/wp-content/uploads/2025/
 10/5_Done-Ready-PAINT-NIGHT-November-December-Bulletin-2025.png
CATEGORIES:Fun Activity
END:VEVENT
BEGIN:VTIMEZONE
TZID:America/Chicago
X-LIC-LOCATION:America/Chicago
BEGIN:STANDARD
DTSTART:20251102T010000
TZOFFSETFROM:-0500
TZOFFSETTO:-0600
TZNAME:CST
END:STANDARD
END:VTIMEZONE
END:VCALENDAR