BEGIN:VCALENDAR
VERSION:2.0
PRODID:-//wp-events-plugin.com//7.2.3.1//EN
TZID:America/Chicago
X-WR-TIMEZONE:America/Chicago
BEGIN:VEVENT
UID:354@ljcagbi.org
DTSTART;TZID=America/Chicago:20250909T123000
DTEND;TZID=America/Chicago:20250909T123000
DTSTAMP:20250815T221407Z
URL:https://www.ljcagbi.org/events/lunch-learn-at-shallots-3/
SUMMARY:Lunch & Learn at Shallots
DESCRIPTION:
ATTACH;FMTTYPE=image/jpeg:https://www.ljcagbi.org/wp-content/uploads/2025/
 08/READY-RH-Lunch-and-Learn-September-October-Bulletin-2025.png
CATEGORIES:Classes,Fun Activity,Holidays
END:VEVENT
BEGIN:VTIMEZONE
TZID:America/Chicago
X-LIC-LOCATION:America/Chicago
BEGIN:DAYLIGHT
DTSTART:20250309T030000
TZOFFSETFROM:-0600
TZOFFSETTO:-0500
TZNAME:CDT
END:DAYLIGHT
END:VTIMEZONE
END:VCALENDAR