BEGIN:VCALENDAR
VERSION:2.0
PRODID:-//wp-events-plugin.com//7.2.3.1//EN
TZID:America/Chicago
X-WR-TIMEZONE:America/Chicago
BEGIN:VEVENT
UID:521@ljcagbi.org
DTSTART;TZID=America/Chicago:20260419T080000
DTEND;TZID=America/Chicago:20260419T080000
DTSTAMP:20260305T195945Z
URL:https://www.ljcagbi.org/events/lox-box/
SUMMARY:Lox Box
DESCRIPTION:Go to: Now Accepting Loxbox Orders! Click here.\nat top of home
  page to order
ATTACH;FMTTYPE=image/jpeg:https://www.ljcagbi.org/wp-content/uploads/2026/
 03/2026-Lox-box-calendar-page-8.5-x-11-in.png
CATEGORIES:Fun Activity
END:VEVENT
BEGIN:VTIMEZONE
TZID:America/Chicago
X-LIC-LOCATION:America/Chicago
BEGIN:DAYLIGHT
DTSTART:20260308T030000
TZOFFSETFROM:-0600
TZOFFSETTO:-0500
TZNAME:CDT
END:DAYLIGHT
END:VTIMEZONE
END:VCALENDAR