BEGIN:VCALENDAR
VERSION:2.0
PRODID:-//wp-events-plugin.com//7.2.3.1//EN
TZID:America/Chicago
X-WR-TIMEZONE:America/Chicago
BEGIN:VEVENT
UID:428@ljcagbi.org
DTSTART;TZID=America/Chicago:20260318T193000
DTEND;TZID=America/Chicago:20260318T204500
DTSTAMP:20260305T180230Z
URL:https://www.ljcagbi.org/events/ladies-night-out-2/
SUMMARY:Ladies Night Out
DESCRIPTION:
ATTACH;FMTTYPE=image/jpeg:https://www.ljcagbi.org/wp-content/uploads/2026/
 03/Ladies-night-out-2026.jpg
CATEGORIES:Fun Activity,Ladies Programming
END:VEVENT
BEGIN:VTIMEZONE
TZID:America/Chicago
X-LIC-LOCATION:America/Chicago
BEGIN:DAYLIGHT
DTSTART:20260308T030000
TZOFFSETFROM:-0600
TZOFFSETTO:-0500
TZNAME:CDT
END:DAYLIGHT
END:VTIMEZONE
END:VCALENDAR