BEGIN:VCALENDAR
VERSION:2.0
PRODID:-//wp-events-plugin.com//7.2.3.1//EN
TZID:America/Chicago
X-WR-TIMEZONE:America/Chicago
BEGIN:VEVENT
UID:95@ljcagbi.org
DTSTART;TZID=America/Chicago:20240525T120000
DTEND;TZID=America/Chicago:20240525T120000
DTSTAMP:20240413T000447Z
URL:https://www.ljcagbi.org/events/for-women-by-women-about-women-shiur/
SUMMARY:Women's Fab Shiur
DESCRIPTION:
ATTACH;FMTTYPE=image/jpeg:https://www.ljcagbi.org/wp-content/uploads/2024/
 04/Womens-Fab-Shiur-May-June-2024-1.png
CATEGORIES:Ladies Programming,On Shabbat
END:VEVENT
BEGIN:VTIMEZONE
TZID:America/Chicago
X-LIC-LOCATION:America/Chicago
BEGIN:DAYLIGHT
DTSTART:20240310T030000
TZOFFSETFROM:-0600
TZOFFSETTO:-0500
TZNAME:CDT
END:DAYLIGHT
END:VTIMEZONE
END:VCALENDAR