BEGIN:VCALENDAR
VERSION:2.0
PRODID:-//wp-events-plugin.com//7.2.3.1//EN
TZID:America/Chicago
X-WR-TIMEZONE:America/Chicago
BEGIN:VEVENT
UID:506@ljcagbi.org
DTSTART;TZID=America/Chicago:20260425T121500
DTEND;TZID=America/Chicago:20260425T121500
DTSTAMP:20260305T191126Z
URL:https://www.ljcagbi.org/events/fabulous-womans-shiur/
SUMMARY:Fabulous Woman's Shiur
DESCRIPTION:
ATTACH;FMTTYPE=image/jpeg:https://www.ljcagbi.org/wp-content/uploads/2026/
 03/1_NOT-READY-March-April-Bulletin-2025-Womens-Fab-Shiur.png
CATEGORIES:Ladies Programming,On Shabbat
END:VEVENT
BEGIN:VTIMEZONE
TZID:America/Chicago
X-LIC-LOCATION:America/Chicago
BEGIN:DAYLIGHT
DTSTART:20260308T030000
TZOFFSETFROM:-0600
TZOFFSETTO:-0500
TZNAME:CDT
END:DAYLIGHT
END:VTIMEZONE
END:VCALENDAR