BEGIN:VCALENDAR
VERSION:2.0
PRODID:-//wp-events-plugin.com//7.2.3.1//EN
TZID:America/Chicago
X-WR-TIMEZONE:America/Chicago
BEGIN:VEVENT
UID:362@ljcagbi.org
DTSTART;TZID=America/Chicago:20250927T171500
DTEND;TZID=America/Chicago:20250927T104500
DTSTAMP:20250815T225104Z
URL:https://www.ljcagbi.org/events/afternoon-gemara-shiur-2025-09-06-2025-
 09-13-2025-09-20-2025-09-27/
SUMMARY:Afternoon Gemara Shiur
DESCRIPTION:Check with the LJCAGBI office for the exact starting time.
ATTACH;FMTTYPE=image/jpeg:https://www.ljcagbi.org/wp-content/uploads/2025/
 08/READY-September-October-Bulletin-2025-Shabbat-Afternoon-Gemara-Shiur-.p
 ng
CATEGORIES:Classes,On Shabbat
END:VEVENT
BEGIN:VTIMEZONE
TZID:America/Chicago
X-LIC-LOCATION:America/Chicago
BEGIN:DAYLIGHT
DTSTART:20250309T030000
TZOFFSETFROM:-0600
TZOFFSETTO:-0500
TZNAME:CDT
END:DAYLIGHT
END:VTIMEZONE
END:VCALENDAR